Package: fastLiquidAssociation Version: 1.43.0 Command: /Library/Frameworks/R.framework/Resources/bin/R CMD build --keep-empty-dirs --no-resave-data fastLiquidAssociation StartedAt: 2025-02-03 16:55:10 -0500 (Mon, 03 Feb 2025) EndedAt: 2025-02-03 16:55:39 -0500 (Mon, 03 Feb 2025) EllapsedTime: 29.3 seconds RetCode: 0 Status: OK PackageFile: fastLiquidAssociation_1.43.0.tar.gz PackageFileSize: 750.3 KiB