Package: fastLiquidAssociation Version: 1.43.0 Command: /home/biocbuild/R/R/bin/R CMD check --install=check:fastLiquidAssociation.install-out.txt --library=/home/biocbuild/R/R/site-library --no-vignettes --timings fastLiquidAssociation_1.43.0.tar.gz StartedAt: 2025-01-28 10:33:38 -0000 (Tue, 28 Jan 2025) EndedAt: 2025-01-28 10:37:15 -0000 (Tue, 28 Jan 2025) EllapsedTime: 216.3 seconds RetCode: 0 Status: WARNINGS CheckDir: fastLiquidAssociation.Rcheck Warnings: 1