Package: fastLiquidAssociation Version: 1.43.0 Command: /home/biocbuild/bbs-3.21-bioc/R/bin/R CMD build --keep-empty-dirs --no-resave-data fastLiquidAssociation StartedAt: 2025-02-03 17:22:12 -0500 (Mon, 03 Feb 2025) EndedAt: 2025-02-03 17:23:33 -0500 (Mon, 03 Feb 2025) EllapsedTime: 81.1 seconds RetCode: 0 Status: OK PackageFile: fastLiquidAssociation_1.43.0.tar.gz PackageFileSize: 750.5 KiB