Package: fastLiquidAssociation Version: 1.43.0 Command: /home/biocbuild/bbs-3.21-bioc/R/bin/R CMD check --install=check:fastLiquidAssociation.install-out.txt --library=/home/biocbuild/bbs-3.21-bioc/R/site-library --timings fastLiquidAssociation_1.43.0.tar.gz StartedAt: 2025-02-03 22:24:45 -0500 (Mon, 03 Feb 2025) EndedAt: 2025-02-03 22:28:29 -0500 (Mon, 03 Feb 2025) EllapsedTime: 224.4 seconds RetCode: 0 Status: WARNINGS CheckDir: fastLiquidAssociation.Rcheck Warnings: 1