Package: fastLiquidAssociation Version: 1.43.0 Command: /home/biocbuild/bbs-3.21-bioc/R/bin/R CMD INSTALL fastLiquidAssociation StartedAt: 2025-02-09 15:43:10 -0500 (Sun, 09 Feb 2025) EndedAt: 2025-02-09 15:43:29 -0500 (Sun, 09 Feb 2025) EllapsedTime: 19.2 seconds RetCode: 0 Status: OK