Package: fastLiquidAssociation Version: 1.43.0 Command: rm -rf fastLiquidAssociation.buildbin-libdir && mkdir fastLiquidAssociation.buildbin-libdir && E:\biocbuild\bbs-3.21-bioc\R\bin\R.exe CMD INSTALL --build --library=fastLiquidAssociation.buildbin-libdir fastLiquidAssociation_1.43.0.tar.gz StartedAt: 2025-02-04 07:57:56 -0500 (Tue, 04 Feb 2025) EndedAt: 2025-02-04 08:00:42 -0500 (Tue, 04 Feb 2025) EllapsedTime: 165.1 seconds RetCode: 0 Status: OK PackageFile: fastLiquidAssociation_1.43.0.zip PackageFileSize: 667.9 KiB