Package: fastLiquidAssociation Version: 1.43.0 Command: chmod a+r fastLiquidAssociation -R && E:\biocbuild\bbs-3.21-bioc\R\bin\R.exe CMD build --keep-empty-dirs --no-resave-data fastLiquidAssociation StartedAt: 2025-02-09 18:40:26 -0500 (Sun, 09 Feb 2025) EndedAt: 2025-02-09 18:42:44 -0500 (Sun, 09 Feb 2025) EllapsedTime: 138.3 seconds RetCode: 0 Status: OK PackageFile: fastLiquidAssociation_1.43.0.tar.gz PackageFileSize: 753.1 KiB