Package: fastLiquidAssociation Version: 1.43.0 Command: E:\biocbuild\bbs-3.21-bioc\R\bin\R.exe CMD INSTALL fastLiquidAssociation StartedAt: 2025-02-03 16:08:06 -0500 (Mon, 03 Feb 2025) EndedAt: 2025-02-03 16:09:44 -0500 (Mon, 03 Feb 2025) EllapsedTime: 97.6 seconds RetCode: 0 Status: OK