Package: fastseg Version: 1.53.3 Command: /Library/Frameworks/R.framework/Resources/bin/R CMD build --keep-empty-dirs --no-resave-data fastseg StartedAt: 2025-02-09 16:18:56 -0500 (Sun, 09 Feb 2025) EndedAt: 2025-02-09 16:19:08 -0500 (Sun, 09 Feb 2025) EllapsedTime: 12.1 seconds RetCode: 0 Status: OK PackageFile: fastseg_1.53.3.tar.gz PackageFileSize: 728.5 KiB