Package: fastseg Version: 1.53.2 Command: /home/biocbuild/R/R/bin/R CMD build --keep-empty-dirs --no-resave-data fastseg StartedAt: 2025-01-28 22:51:54 -0000 (Tue, 28 Jan 2025) EndedAt: 2025-01-28 22:52:18 -0000 (Tue, 28 Jan 2025) EllapsedTime: 24.0 seconds RetCode: 1 Status: ERROR PackageFile: None PackageFileSize: NA