Package: fastseg Version: 1.53.2 Command: /home/biocbuild/R/R/bin/R CMD INSTALL fastseg StartedAt: 2025-01-29 19:43:56 -0000 (Wed, 29 Jan 2025) EndedAt: 2025-01-29 19:44:13 -0000 (Wed, 29 Jan 2025) EllapsedTime: 16.8 seconds RetCode: 0 Status: OK