Package: fastseg Version: 1.53.2 Command: /Library/Frameworks/R.framework/Resources/bin/R CMD INSTALL fastseg StartedAt: 2025-02-03 15:17:21 -0500 (Mon, 03 Feb 2025) EndedAt: 2025-02-03 15:17:38 -0500 (Mon, 03 Feb 2025) EllapsedTime: 17.2 seconds RetCode: 0 Status: OK