Package: fastseg Version: 1.53.2 Command: /home/biocbuild/bbs-3.21-bioc/R/bin/R CMD build --keep-empty-dirs --no-resave-data fastseg StartedAt: 2025-02-04 17:11:39 -0500 (Tue, 04 Feb 2025) EndedAt: 2025-02-04 17:11:57 -0500 (Tue, 04 Feb 2025) EllapsedTime: 18.0 seconds RetCode: 1 Status: ERROR PackageFile: None PackageFileSize: NA