Package: fastseg Version: 1.53.2 Command: /home/biocbuild/bbs-3.21-bioc/R/bin/R CMD INSTALL fastseg StartedAt: 2025-02-04 15:22:33 -0500 (Tue, 04 Feb 2025) EndedAt: 2025-02-04 15:22:45 -0500 (Tue, 04 Feb 2025) EllapsedTime: 12.4 seconds RetCode: 0 Status: OK