Package: fastseg Version: 1.53.3 Command: rm -rf fastseg.buildbin-libdir && mkdir fastseg.buildbin-libdir && E:\biocbuild\bbs-3.21-bioc\R\bin\R.exe CMD INSTALL --build --library=fastseg.buildbin-libdir fastseg_1.53.3.tar.gz StartedAt: 2025-02-10 07:44:31 -0500 (Mon, 10 Feb 2025) EndedAt: 2025-02-10 07:44:52 -0500 (Mon, 10 Feb 2025) EllapsedTime: 20.6 seconds RetCode: 0 Status: OK PackageFile: fastseg_1.53.3.zip PackageFileSize: 519.8 KiB