Package: fastseg Version: 1.53.2 Command: chmod a+r fastseg -R && E:\biocbuild\bbs-3.21-bioc\R\bin\R.exe CMD build --keep-empty-dirs --no-resave-data fastseg StartedAt: 2025-02-03 18:52:51 -0500 (Mon, 03 Feb 2025) EndedAt: 2025-02-03 18:53:55 -0500 (Mon, 03 Feb 2025) EllapsedTime: 63.4 seconds RetCode: 0 Status: OK PackageFile: fastseg_1.53.2.tar.gz PackageFileSize: 475.9 KiB