Package: fcScan Version: 1.21.0 Command: rm -rf fcScan.buildbin-libdir && mkdir fcScan.buildbin-libdir && /Users/biocbuild/BBS/utils/build-universal.sh fcScan_1.21.0.tar.gz /Library/Frameworks/R.framework/Resources/bin/R fcScan.buildbin-libdir StartedAt: 2025-02-09 22:14:16 -0500 (Sun, 09 Feb 2025) EndedAt: 2025-02-09 22:14:32 -0500 (Sun, 09 Feb 2025) EllapsedTime: 16.4 seconds RetCode: 0 Status: OK PackageFile: fcScan_1.21.0.tgz PackageFileSize: 272.2 KiB