Package: fcScan Version: 1.21.0 Command: /home/biocbuild/R/R/bin/R CMD check --install=check:fcScan.install-out.txt --library=/home/biocbuild/R/R/site-library --no-vignettes --timings fcScan_1.21.0.tar.gz StartedAt: 2025-01-28 10:34:56 -0000 (Tue, 28 Jan 2025) EndedAt: 2025-01-28 10:40:48 -0000 (Tue, 28 Jan 2025) EllapsedTime: 351.4 seconds RetCode: 0 Status: OK CheckDir: fcScan.Rcheck Warnings: 0