Package: fcScan Version: 1.21.0 Command: /home/biocbuild/R/R/bin/R CMD INSTALL fcScan StartedAt: 2025-01-29 19:56:55 -0000 (Wed, 29 Jan 2025) EndedAt: 2025-01-29 19:57:49 -0000 (Wed, 29 Jan 2025) EllapsedTime: 53.6 seconds RetCode: 0 Status: OK