Package: fcScan Version: 1.21.0 Command: /home/biocbuild/bbs-3.21-bioc/R/bin/R CMD build --keep-empty-dirs --no-resave-data fcScan StartedAt: 2025-02-12 17:10:39 -0500 (Wed, 12 Feb 2025) EndedAt: 2025-02-12 17:11:45 -0500 (Wed, 12 Feb 2025) EllapsedTime: 66.1 seconds RetCode: 0 Status: OK PackageFile: fcScan_1.21.0.tar.gz PackageFileSize: 241.8 KiB