Package: fcScan Version: 1.21.0 Command: /home/biocbuild/bbs-3.21-bioc/R/bin/R CMD check --install=check:fcScan.install-out.txt --library=/home/biocbuild/bbs-3.21-bioc/R/site-library --timings fcScan_1.21.0.tar.gz StartedAt: 2025-02-12 22:16:29 -0500 (Wed, 12 Feb 2025) EndedAt: 2025-02-12 22:21:33 -0500 (Wed, 12 Feb 2025) EllapsedTime: 304.6 seconds RetCode: 0 Status: OK CheckDir: fcScan.Rcheck Warnings: 0