Package: fcScan Version: 1.21.0 Command: /home/biocbuild/bbs-3.21-bioc/R/bin/R CMD INSTALL fcScan StartedAt: 2025-02-12 15:39:39 -0500 (Wed, 12 Feb 2025) EndedAt: 2025-02-12 15:40:18 -0500 (Wed, 12 Feb 2025) EllapsedTime: 38.6 seconds RetCode: 0 Status: OK