Package: fcScan Version: 1.21.0 Command: chmod a+r fcScan -R && E:\biocbuild\bbs-3.21-bioc\R\bin\R.exe CMD build --keep-empty-dirs --no-resave-data fcScan StartedAt: 2025-02-12 18:45:11 -0500 (Wed, 12 Feb 2025) EndedAt: 2025-02-12 18:46:44 -0500 (Wed, 12 Feb 2025) EllapsedTime: 92.8 seconds RetCode: 1 Status: ERROR PackageFile: None PackageFileSize: NA