Package: fedup Version: 1.15.0 Command: /Library/Frameworks/R.framework/Resources/bin/R CMD build --keep-empty-dirs --no-resave-data fedup StartedAt: 2025-02-03 16:55:52 -0500 (Mon, 03 Feb 2025) EndedAt: 2025-02-03 16:56:26 -0500 (Mon, 03 Feb 2025) EllapsedTime: 33.4 seconds RetCode: 0 Status: OK PackageFile: fedup_1.15.0.tar.gz PackageFileSize: 4.703 MiB