Package: fedup Version: 1.15.0 Command: /Library/Frameworks/R.framework/Resources/bin/R CMD check --install=check:fedup.install-out.txt --library=/Library/Frameworks/R.framework/Resources/library --no-vignettes --timings fedup_1.15.0.tar.gz StartedAt: 2025-02-03 19:50:04 -0500 (Mon, 03 Feb 2025) EndedAt: 2025-02-03 19:51:30 -0500 (Mon, 03 Feb 2025) EllapsedTime: 86.0 seconds RetCode: 0 Status: OK CheckDir: fedup.Rcheck Warnings: 0