Package: fedup Version: 1.15.0 Command: /home/biocbuild/R/R/bin/R CMD build --keep-empty-dirs --no-resave-data fedup StartedAt: 2025-01-28 22:52:42 -0000 (Tue, 28 Jan 2025) EndedAt: 2025-01-28 22:54:55 -0000 (Tue, 28 Jan 2025) EllapsedTime: 133.1 seconds RetCode: 0 Status: OK PackageFile: fedup_1.15.0.tar.gz PackageFileSize: 3.814 MiB