Package: fedup Version: 1.15.0 Command: /Library/Frameworks/R.framework/Resources/bin/R CMD build --keep-empty-dirs --no-resave-data fedup StartedAt: 2025-02-09 16:44:58 -0500 (Sun, 09 Feb 2025) EndedAt: 2025-02-09 16:46:57 -0500 (Sun, 09 Feb 2025) EllapsedTime: 119.5 seconds RetCode: 0 Status: OK PackageFile: fedup_1.15.0.tar.gz PackageFileSize: 4.703 MiB