Package: fedup Version: 1.15.0 Command: /Library/Frameworks/R.framework/Resources/bin/R CMD INSTALL fedup StartedAt: 2025-02-09 15:42:23 -0500 (Sun, 09 Feb 2025) EndedAt: 2025-02-09 15:42:35 -0500 (Sun, 09 Feb 2025) EllapsedTime: 11.5 seconds RetCode: 0 Status: OK