Package: fedup Version: 1.15.0 Command: /home/biocbuild/bbs-3.21-bioc/R/bin/R CMD build --keep-empty-dirs --no-resave-data fedup StartedAt: 2025-02-03 17:23:03 -0500 (Mon, 03 Feb 2025) EndedAt: 2025-02-03 17:24:29 -0500 (Mon, 03 Feb 2025) EllapsedTime: 86.1 seconds RetCode: 0 Status: OK PackageFile: fedup_1.15.0.tar.gz PackageFileSize: 4.702 MiB