Package: fedup Version: 1.15.0 Command: /home/biocbuild/bbs-3.21-bioc/R/bin/R CMD check --install=check:fedup.install-out.txt --library=/home/biocbuild/bbs-3.21-bioc/R/site-library --timings fedup_1.15.0.tar.gz StartedAt: 2025-02-09 22:17:55 -0500 (Sun, 09 Feb 2025) EndedAt: 2025-02-09 22:22:45 -0500 (Sun, 09 Feb 2025) EllapsedTime: 290.5 seconds RetCode: 0 Status: OK CheckDir: fedup.Rcheck Warnings: 0