Package: fedup Version: 1.15.0 Command: rm -rf fedup.buildbin-libdir && mkdir fedup.buildbin-libdir && E:\biocbuild\bbs-3.21-bioc\R\bin\R.exe CMD INSTALL --build --library=fedup.buildbin-libdir fedup_1.15.0.tar.gz StartedAt: 2025-02-04 07:58:27 -0500 (Tue, 04 Feb 2025) EndedAt: 2025-02-04 07:58:45 -0500 (Tue, 04 Feb 2025) EllapsedTime: 18.0 seconds RetCode: 0 Status: OK PackageFile: fedup_1.15.0.zip PackageFileSize: 3.213 MiB