Package: fedup Version: 1.15.0 Command: chmod a+r fedup -R && E:\biocbuild\bbs-3.21-bioc\R\bin\R.exe CMD build --keep-empty-dirs --no-resave-data fedup StartedAt: 2025-02-03 18:54:01 -0500 (Mon, 03 Feb 2025) EndedAt: 2025-02-03 18:56:06 -0500 (Mon, 03 Feb 2025) EllapsedTime: 124.0 seconds RetCode: 0 Status: OK PackageFile: fedup_1.15.0.tar.gz PackageFileSize: 3.479 MiB