Package: fedup Version: 1.15.0 Command: E:\biocbuild\bbs-3.21-bioc\R\bin\R.exe CMD INSTALL fedup StartedAt: 2025-02-09 16:04:40 -0500 (Sun, 09 Feb 2025) EndedAt: 2025-02-09 16:05:00 -0500 (Sun, 09 Feb 2025) EllapsedTime: 19.1 seconds RetCode: 0 Status: OK