Package: ffpe Version: 1.51.0 Command: /Library/Frameworks/R.framework/Resources/bin/R CMD build --keep-empty-dirs --no-resave-data ffpe StartedAt: 2025-02-09 16:19:28 -0500 (Sun, 09 Feb 2025) EndedAt: 2025-02-09 16:20:00 -0500 (Sun, 09 Feb 2025) EllapsedTime: 31.3 seconds RetCode: 0 Status: OK PackageFile: ffpe_1.51.0.tar.gz PackageFileSize: 267.8 KiB