Package: ffpe Version: 1.51.0 Command: /Library/Frameworks/R.framework/Resources/bin/R CMD INSTALL ffpe StartedAt: 2025-02-09 15:28:10 -0500 (Sun, 09 Feb 2025) EndedAt: 2025-02-09 15:28:30 -0500 (Sun, 09 Feb 2025) EllapsedTime: 19.5 seconds RetCode: 0 Status: OK