Package: ffpe Version: 1.51.0 Command: /home/biocbuild/R/R/bin/R CMD check --install=check:ffpe.install-out.txt --library=/home/biocbuild/R/R/site-library --no-vignettes --timings ffpe_1.51.0.tar.gz StartedAt: 2025-01-28 10:35:45 -0000 (Tue, 28 Jan 2025) EndedAt: 2025-01-28 10:42:47 -0000 (Tue, 28 Jan 2025) EllapsedTime: 422.5 seconds RetCode: 0 Status: WARNINGS CheckDir: ffpe.Rcheck Warnings: 5