Package: ffpe Version: 1.51.0 Command: rm -rf ffpe.buildbin-libdir && mkdir ffpe.buildbin-libdir && /Users/biocbuild/BBS/utils/build-universal.sh ffpe_1.51.0.tar.gz /Library/Frameworks/R.framework/Resources/bin/R ffpe.buildbin-libdir StartedAt: 2025-02-13 00:36:39 -0500 (Thu, 13 Feb 2025) EndedAt: 2025-02-13 00:37:45 -0500 (Thu, 13 Feb 2025) EllapsedTime: 66.3 seconds RetCode: 0 Status: OK PackageFile: ffpe_1.51.0.tgz PackageFileSize: 298.7 KiB