Package: ffpe Version: 1.51.0 Command: /Library/Frameworks/R.framework/Resources/bin/R CMD build --keep-empty-dirs --no-resave-data ffpe StartedAt: 2025-02-09 16:45:07 -0500 (Sun, 09 Feb 2025) EndedAt: 2025-02-09 16:46:46 -0500 (Sun, 09 Feb 2025) EllapsedTime: 99.0 seconds RetCode: 0 Status: OK PackageFile: ffpe_1.51.0.tar.gz PackageFileSize: 267.5 KiB