Package: ffpe Version: 1.51.0 Command: /home/biocbuild/bbs-3.21-bioc/R/bin/R CMD INSTALL ffpe StartedAt: 2025-02-12 16:00:08 -0500 (Wed, 12 Feb 2025) EndedAt: 2025-02-12 16:00:54 -0500 (Wed, 12 Feb 2025) EllapsedTime: 46.0 seconds RetCode: 0 Status: OK