Package: ffpe Version: 1.51.0 Command: E:\biocbuild\bbs-3.21-bioc\R\bin\R.exe CMD check --no-multiarch --install=check:ffpe.install-out.txt --library=E:\biocbuild\bbs-3.21-bioc\R\library --no-vignettes --timings ffpe_1.51.0.tar.gz StartedAt: 2025-02-10 01:05:15 -0500 (Mon, 10 Feb 2025) EndedAt: 2025-02-10 01:11:37 -0500 (Mon, 10 Feb 2025) EllapsedTime: 381.6 seconds RetCode: 0 Status: OK CheckDir: ffpe.Rcheck Warnings: 0