Package: ffpe Version: 1.51.0 Command: E:\biocbuild\bbs-3.21-bioc\R\bin\R.exe CMD INSTALL ffpe StartedAt: 2025-02-09 17:01:35 -0500 (Sun, 09 Feb 2025) EndedAt: 2025-02-09 17:02:22 -0500 (Sun, 09 Feb 2025) EllapsedTime: 47.4 seconds RetCode: 0 Status: OK