Package: findIPs Version: 1.3.1 Command: rm -rf findIPs.buildbin-libdir && mkdir findIPs.buildbin-libdir && /Users/biocbuild/BBS/utils/build-universal.sh findIPs_1.3.1.tar.gz /Library/Frameworks/R.framework/Resources/bin/R findIPs.buildbin-libdir StartedAt: 2025-02-10 00:53:31 -0500 (Mon, 10 Feb 2025) EndedAt: 2025-02-10 00:54:01 -0500 (Mon, 10 Feb 2025) EllapsedTime: 30.2 seconds RetCode: 0 Status: OK PackageFile: findIPs_1.3.1.tgz PackageFileSize: 2.139 MiB