Package: findIPs Version: 1.3.1 Command: /Library/Frameworks/R.framework/Resources/bin/R CMD build --keep-empty-dirs --no-resave-data findIPs StartedAt: 2025-02-12 16:43:35 -0500 (Wed, 12 Feb 2025) EndedAt: 2025-02-12 16:48:35 -0500 (Wed, 12 Feb 2025) EllapsedTime: 299.8 seconds RetCode: 0 Status: OK PackageFile: findIPs_1.3.1.tar.gz PackageFileSize: 2.292 MiB