Package: findIPs Version: 1.3.1 Command: /Library/Frameworks/R.framework/Resources/bin/R CMD INSTALL findIPs StartedAt: 2025-02-12 15:31:58 -0500 (Wed, 12 Feb 2025) EndedAt: 2025-02-12 15:32:26 -0500 (Wed, 12 Feb 2025) EllapsedTime: 27.7 seconds RetCode: 0 Status: OK