Package: fishpond Version: 2.13.0 Command: rm -rf fishpond.buildbin-libdir && mkdir fishpond.buildbin-libdir && /Users/biocbuild/BBS/utils/build-universal.sh fishpond_2.13.0.tar.gz /Library/Frameworks/R.framework/Resources/bin/R fishpond.buildbin-libdir StartedAt: 2025-02-09 22:14:27 -0500 (Sun, 09 Feb 2025) EndedAt: 2025-02-09 22:14:39 -0500 (Sun, 09 Feb 2025) EllapsedTime: 11.3 seconds RetCode: 0 Status: OK PackageFile: fishpond_2.13.0.tgz PackageFileSize: 4.011 MiB