Package: fishpond Version: 2.13.0 Command: /Library/Frameworks/R.framework/Resources/bin/R CMD check --install=check:fishpond.install-out.txt --library=/Library/Frameworks/R.framework/Resources/library --no-vignettes --timings fishpond_2.13.0.tar.gz StartedAt: 2025-02-09 19:13:51 -0500 (Sun, 09 Feb 2025) EndedAt: 2025-02-09 19:15:20 -0500 (Sun, 09 Feb 2025) EllapsedTime: 89.1 seconds RetCode: 0 Status: OK CheckDir: fishpond.Rcheck Warnings: 0