Package: fishpond Version: 2.13.0 Command: /Library/Frameworks/R.framework/Resources/bin/R CMD build --keep-empty-dirs --no-resave-data fishpond StartedAt: 2025-02-09 16:45:51 -0500 (Sun, 09 Feb 2025) EndedAt: 2025-02-09 16:50:27 -0500 (Sun, 09 Feb 2025) EllapsedTime: 276.8 seconds RetCode: 0 Status: OK PackageFile: fishpond_2.13.0.tar.gz PackageFileSize: 4.277 MiB