Package: fishpond Version: 2.13.0 Command: /Library/Frameworks/R.framework/Resources/bin/R CMD INSTALL fishpond StartedAt: 2025-02-09 15:11:59 -0500 (Sun, 09 Feb 2025) EndedAt: 2025-02-09 15:12:34 -0500 (Sun, 09 Feb 2025) EllapsedTime: 35.9 seconds RetCode: 0 Status: OK