Package: fishpond Version: 2.13.0 Command: /home/biocbuild/bbs-3.21-bioc/R/bin/R CMD build --keep-empty-dirs --no-resave-data fishpond StartedAt: 2025-02-04 17:13:08 -0500 (Tue, 04 Feb 2025) EndedAt: 2025-02-04 17:17:06 -0500 (Tue, 04 Feb 2025) EllapsedTime: 237.4 seconds RetCode: 0 Status: OK PackageFile: fishpond_2.13.0.tar.gz PackageFileSize: 3.915 MiB