Package: fishpond Version: 2.13.0 Command: /home/biocbuild/bbs-3.21-bioc/R/bin/R CMD check --install=check:fishpond.install-out.txt --library=/home/biocbuild/bbs-3.21-bioc/R/site-library --timings fishpond_2.13.0.tar.gz StartedAt: 2025-02-04 22:19:45 -0500 (Tue, 04 Feb 2025) EndedAt: 2025-02-04 22:27:32 -0500 (Tue, 04 Feb 2025) EllapsedTime: 466.9 seconds RetCode: 0 Status: OK CheckDir: fishpond.Rcheck Warnings: 0